BEGIN:VCALENDAR
VERSION:2.0
PRODID:-//Library Market//iCal Export//EN
BEGIN:VEVENT
SUMMARY:Family Lego Challenge
UID:172119
DTSTAMP:20260419T215400Z
DTSTART:20260512T220000Z
DTEND:20260512T230000Z
LOCATION:1184 Anderson Ferry Road, Mount Joy, PA 17552, United States
ROOM: MJY Engle Room Large
DESCRIPTION:Miss Alyssa invites families to come to the Library for our Fa
 mily Lego Challenge where participants receive a box of Lego pieces and ar
 e challenged to create based on the theme of the month. Creations will be 
 on display in the Library for a couple weeks after the program. Registrati
 on is required. 
URL:https://calendar.lancasterlibraries.org/event/family-lego-challenge-17
 2119
END:VEVENT
END:VCALENDAR
