BEGIN:VCALENDAR
VERSION:2.0
PRODID:-//Library Market//iCal Export//EN
BEGIN:VEVENT
SUMMARY:Parachute Play
UID:172120
DTSTAMP:20260419T215400Z
DTSTART:20260518T143000Z
DTEND:20260518T151500Z
LOCATION:1184 Anderson Ferry Road, Mount Joy, PA 17552, United States
ROOM: MJY Engle Room Large
DESCRIPTION:Miss Alyssa will get out the giant parachute for fun, interact
 ive play! Perfect for ages 3-5. 
URL:https://calendar.lancasterlibraries.org/event/parachute-play-172120
END:VEVENT
END:VCALENDAR
