BEGIN:VCALENDAR
VERSION:2.0
PRODID:-//Library Market//iCal Export//EN
BEGIN:VEVENT
SUMMARY:Curious Minds Story Time
UID:172121
DTSTAMP:20260419T215400Z
DTSTART:20260519T143000Z
DTEND:20260519T154500Z
LOCATION:1184 Anderson Ferry Road, Mount Joy, PA 17552, United States
ROOM: Curious Minds Story Time
DESCRIPTION:Join us for this special monthly story time led by staff from 
 Janus School in Mount Joy. Engaging stories and activities with a craft at
  the end! 
URL:https://calendar.lancasterlibraries.org/event/curious-minds-story-time
 -172121
END:VEVENT
END:VCALENDAR
