BEGIN:VCALENDAR
VERSION:2.0
PRODID:-//Library Market//iCal Export//EN
BEGIN:VEVENT
SUMMARY:English-ish Extravaganza
UID:172122
DTSTAMP:20260419T215400Z
DTSTART:20260519T183000Z
DTEND:20260519T193000Z
LOCATION:1184 Anderson Ferry Road, Mount Joy, PA 17552, United States
ROOM: MJY Engle Room Large
DESCRIPTION:English-ish Extravaganza is a playful, English-class-inspired 
 program where kids can read, write, and explore words through fun activiti
 es. Each session will include a mix of storytelling games, creative writin
 g, and word play. Perfect for kids who love stories or just love to be cre
 ative and silly with words!  
URL:https://calendar.lancasterlibraries.org/event/english-ish-extravaganza
 -172122
END:VEVENT
END:VCALENDAR
