BEGIN:VCALENDAR
VERSION:2.0
PRODID:-//Library Market//iCal Export//EN
BEGIN:VEVENT
SUMMARY:Moms &amp; Muffins
UID:172124
DTSTAMP:20260419T215400Z
DTSTART:20260509T140000Z
DTEND:20260509T150000Z
LOCATION:1184 Anderson Ferry Road, Mount Joy, PA 17552, United States
ROOM: Moms &amp; Muffins
DESCRIPTION:Join us as we celebrate Mother’s Day! Enjoy sweet treats, ma
 ke crafts, and play some games as we celebrate the moms in our life. 
URL:https://calendar.lancasterlibraries.org/event/moms-muffins-172124
END:VEVENT
END:VCALENDAR
