BEGIN:VCALENDAR
VERSION:2.0
PRODID:-//Library Market//iCal Export//EN
BEGIN:VEVENT
SUMMARY:Scrap Booking Studio
UID:172147
DTSTAMP:20260419T215400Z
DTSTART:20260519T220000Z
DTEND:20260519T230000Z
LOCATION:1184 Anderson Ferry Road, Mount Joy, PA 17552, United States
ROOM: MJY Engle Room Large
DESCRIPTION:Kids are invited to come to the library to create their very o
 wn scrapbooks. We’ll begin with a short demonstration on how to assemble
  a simple handmade journal, and then participants can customize their book
 s with colored paper, different types of string, and other decorative mate
 rials. After that, kids will have plenty of time to let their imagination 
 take over and scrapbook to their hearts’ content. All supplies will be p
 rovided! 
URL:https://calendar.lancasterlibraries.org/event/scrap-booking-studio-172
 147
END:VEVENT
END:VCALENDAR
