BEGIN:VCALENDAR
VERSION:2.0
PRODID:-//Library Market//iCal Export//EN
BEGIN:VEVENT
SUMMARY:Fairy Garden Craft Party
UID:172155
DTSTAMP:20260419T215400Z
DTSTART:20260507T220000Z
DTEND:20260507T230000Z
LOCATION:1184 Anderson Ferry Road, Mount Joy, PA 17552, United States
ROOM: Fairy Garden Craft Party
DESCRIPTION:To celebrate the grand opening of the library Fairy Garden, ch
 ildren are invited to join us for a special craft night where they can cre
 ate their very own miniature fairy gardens. We’ll provide everything the
 y need—stones, moss, tiny decorations, mini statues, and more. Kids can 
 design a whimsical little world and take their finished fairy garden home 
 at the end of the night. 
URL:https://calendar.lancasterlibraries.org/event/fairy-garden-craft-party
 -172155
END:VEVENT
END:VCALENDAR
