BEGIN:VCALENDAR
VERSION:2.0
PRODID:-//Library Market//iCal Export//EN
BEGIN:VEVENT
SUMMARY:1st Day to Redeem Your Summer Reading Log For Prizes!
UID:172156
DTSTAMP:20260420T055000Z
DTSTART:20260622T040000Z
DTEND:20260622T040000Z
LOCATION:547 N Penryn Rd, Manheim, PA 17545, United States
ROOM: MAN Community Room
DESCRIPTION:Please have your child turn in their own reading logs and have
  them pick a free book with their prize! We LOVE seeing their excitement 
 when they except their reward at the end of a great challenge!! 
URL:https://calendar.lancasterlibraries.org/event/redeem-your-summer-readi
 ng-log-prize-172156
END:VEVENT
END:VCALENDAR
