BEGIN:VCALENDAR
VERSION:2.0
PRODID:-//Library Market//iCal Export//EN
BEGIN:VEVENT
SUMMARY:Family Craft Night w/Miss Katelyn
UID:172167
DTSTAMP:20260420T012300Z
DTSTART:20260505T220000Z
DTEND:20260505T230000Z
LOCATION:1184 Anderson Ferry Road, Mount Joy, PA 17552, United States
ROOM: MJY Engle Room Large
DESCRIPTION:Miss Katelyn will be offering a monthly craft night for famili
 es.  (Free; Ages 3+) 
URL:https://calendar.lancasterlibraries.org/event/family-craft-night-wmiss
 -katelyn-172167
END:VEVENT
END:VCALENDAR
