BEGIN:VCALENDAR
VERSION:2.0
PRODID:-//Library Market//iCal Export//EN
BEGIN:VEVENT
SUMMARY:Family Story Time w/Miss Katelyn
UID:172170
DTSTAMP:20260419T233000Z
DTSTART:20260521T143000Z
DTEND:20260521T151500Z
LOCATION:1184 Anderson Ferry Road, Mount Joy, PA 17552, United States
ROOM: MJY Engle Room Large
DESCRIPTION:Join Miss Katelyn for a fun story time of songs, stories, and 
 a themed craft! May 7 - MomsMay 14 - FlowersMay 21 - Bees 
URL:https://calendar.lancasterlibraries.org/event/family-story-time-wmiss-
 katelyn-172170
END:VEVENT
END:VCALENDAR
