BEGIN:VCALENDAR
VERSION:2.0
PRODID:-//Library Market//iCal Export//EN
BEGIN:VEVENT
SUMMARY:Reading the World
UID:172171
DTSTAMP:20260419T215400Z
DTSTART:20260514T173000Z
DTEND:20260514T181500Z
LOCATION:1184 Anderson Ferry Road, Mount Joy, PA 17552, United States
ROOM: MJY Engle Room Large
DESCRIPTION: 
URL:https://calendar.lancasterlibraries.org/event/reading-world-172171
END:VEVENT
END:VCALENDAR
