BEGIN:VCALENDAR
VERSION:2.0
PRODID:-//Library Market//iCal Export//EN
BEGIN:VEVENT
SUMMARY:Preschool Pals
UID:172173
DTSTAMP:20260419T215400Z
DTSTART:20260512T143000Z
DTEND:20260512T151500Z
LOCATION:1184 Anderson Ferry Road, Mount Joy, PA 17552, United States
ROOM: MJY Engle Room Large
DESCRIPTION: 
URL:https://calendar.lancasterlibraries.org/event/preschool-pals-172173
END:VEVENT
END:VCALENDAR
