BEGIN:VCALENDAR
VERSION:2.0
PRODID:-//Library Market//iCal Export//EN
BEGIN:VEVENT
SUMMARY:Little Tinker Thinkers
UID:172174
DTSTAMP:20260419T215400Z
DTSTART:20260512T183000Z
DTEND:20260512T191500Z
LOCATION:1184 Anderson Ferry Road, Mount Joy, PA 17552, United States
ROOM: Little Tinker Thinkers
DESCRIPTION: 
URL:https://calendar.lancasterlibraries.org/event/little-tinker-thinkers-1
 72174
END:VEVENT
END:VCALENDAR
