BEGIN:VCALENDAR
VERSION:2.0
PRODID:-//Library Market//iCal Export//EN
BEGIN:VEVENT
SUMMARY:The Cozy Stitch Collective
UID:172278
DTSTAMP:20260422T021000Z
DTSTART:20260513T213000Z
DTEND:20260513T223000Z
LOCATION:Adamstown Area Library, 110 W. Main St, Adamstown, PA 19501, Unit
 ed States
ROOM: ADM Reading Room
DESCRIPTION:Crochet, Knitting, Embroidery, Cross-Stitch, &amp; more! Bring
  your project and join us in front of the fireplace to work on your craft,
  trade tips, and enjoy our community. All skill levels welcome! This is a 
 drop-in event for Adults (18+)
URL:https://calendar.lancasterlibraries.org/event/cozy-stitch-collective-1
 72278
END:VEVENT
END:VCALENDAR
