BEGIN:VCALENDAR
VERSION:2.0
PRODID:-//Library Market//iCal Export//EN
BEGIN:VEVENT
SUMMARY:Kindle Users 2.0
UID:172323
DTSTAMP:20260422T075500Z
DTSTART:20260709T220000Z
DTEND:20260709T233000Z
LOCATION:Ephrata Public Library, 550 South Reading Rd., Ephrata, PA 17522,
  United States
ROOM: EPH Conference Room
DESCRIPTION:Attention all Kindle lovers! Come join us at Kindle Users 2.0 
 to meet other Kindle users, share your love of Kindle and get the tech sup
 port you need. This group is specifically designed for Kindle Fire users. 
 You should have a Kindle Fire to attend. Ages 18+.
URL:https://calendar.lancasterlibraries.org/event/kindle-users-20-172323
END:VEVENT
END:VCALENDAR
