BEGIN:VCALENDAR
VERSION:2.0
PRODID:-//Library Market//iCal Export//EN
BEGIN:VEVENT
SUMMARY:Coding for Kids
UID:172460
DTSTAMP:20260420T081500Z
DTSTART:20260707T180000Z
DTEND:20260707T190000Z
LOCATION:357 Buck Road, Quarryville , PA 17566, United States
ROOM: QVL Story Corner/Early Literacy Lab
DESCRIPTION:Join us for coding with friends! Your child can code, regardle
 ss of experience level!Space is limited - if you have your own tech we can
  admit a few extra kids so contact us at sroche@quarryvillelibrary.org.  
 If you want to use library computers, your child must have a library accou
 nt with digital permission. If you need to set this up please plan to arri
 ve a bit early so your child has a full session!Coding coaches are also we
 lcome - please contact Sharon in advance!
URL:https://calendar.lancasterlibraries.org/event/coding-kids-172460
END:VEVENT
END:VCALENDAR
