BEGIN:VCALENDAR
VERSION:2.0
PRODID:-//Library Market//iCal Export//EN
BEGIN:VEVENT
SUMMARY:Wiggles and Giggles Ages 18 Months up to Age 4 with a Caregiver
UID:172667
DTSTAMP:20260422T021000Z
DTSTART:20260514T140000Z
DTEND:20260514T143000Z
LOCATION:143 Precision Avenue, Strasburg, PA 17579, United States
ROOM: Wiggles and Giggles Ages 18 Months up to Age 4 with a Caregiver
DESCRIPTION:This Program is for Children ages 18 months up to age 4 with a
  caregiver Come sing, dance, Wiggle and Giggle! Miss Wendy&#039;s FUN mon
 thly themes introduce basic concepts to toddlers and young children. Come 
 play and learn with your little ones!! This class is a Library favorite!!C
 ancellations: This is a very popular class, so please cancel on the websit
 e or call the library if you are unable to attend the class that you are r
 egistered for. We typically have a waiting list and your cancellation allo
 ws others to attend.  3 &quot;No Shows&quot; and you will no longer be ab
 le to register for the program. Please reach out to us if you cannot atte
 nd or are running late. Thank you!
URL:https://calendar.lancasterlibraries.org/event/wiggles-and-giggles-ages
 -18-months-age-4-caregiver-172667
END:VEVENT
END:VCALENDAR
