BEGIN:VCALENDAR
VERSION:2.0
PRODID:-//Library Market//iCal Export//EN
BEGIN:VEVENT
SUMMARY:Little Ducklings Baby and Caregiver Class
UID:172671
DTSTAMP:20260421T060500Z
DTSTART:20260504T133000Z
DTEND:20260504T140000Z
LOCATION:143 Precision Avenue, Strasburg, PA 17579, United States
ROOM: Little Ducklings Baby and Caregiver Class
DESCRIPTION:Little Ducklings-Baby and Caregiver Class for babies 3 months 
 up to 17 months. Little Ducklings is a fun interactive program designed f
 or parents or caregivers and their babies. In this class you will engage i
 n gentle songs and activities that support early development, bonding and 
 sensory exploration. Each class includes age-appropriate music, movement, 
 rhymes, play and social interaction. This class is perfect for parents an
 d caregivers looking to foster early learning and strengthen the parent-ch
 ild connection in a supportive and relaxed setting.
URL:https://calendar.lancasterlibraries.org/event/little-ducklings-baby-an
 d-caregiver-class-172671
END:VEVENT
END:VCALENDAR
