BEGIN:VCALENDAR
VERSION:2.0
PRODID:-//Library Market//iCal Export//EN
BEGIN:VEVENT
SUMMARY:Duplo Free Play Ages 2+
UID:172675
DTSTAMP:20260422T051100Z
DTSTART:20260508T140000Z
DTEND:20260508T153000Z
LOCATION:143 Precision Avenue, Strasburg, PA 17579, United States
ROOM: Duplo Free Play Ages 2+
DESCRIPTION:Come use your imagination, build and play! No registration req
 uired 
URL:https://calendar.lancasterlibraries.org/event/duplo-free-play-ages-2-1
 72675
END:VEVENT
END:VCALENDAR
