BEGIN:VCALENDAR
VERSION:2.0
PRODID:-//Library Market//iCal Export//EN
BEGIN:VEVENT
SUMMARY:Duplo Free Play Ages 2+
UID:172676
DTSTAMP:20260422T021000Z
DTSTART:20260515T140000Z
DTEND:20260515T153000Z
LOCATION:143 Precision Avenue, Strasburg, PA 17579, United States
ROOM: Duplo Free Play Ages 2+
DESCRIPTION:Come use your imagination, build and play! No registration req
 uired 
URL:https://calendar.lancasterlibraries.org/event/duplo-free-play-ages-2-1
 72676
END:VEVENT
END:VCALENDAR
