BEGIN:VCALENDAR
VERSION:2.0
PRODID:-//Library Market//iCal Export//EN
BEGIN:VEVENT
SUMMARY:Summer Art Club with Miss Angie (June)
UID:172695
DTSTAMP:20260421T231300Z
DTSTART:20260625T140000Z
DTEND:20260625T153000Z
LOCATION:143 Precision Avenue, Strasburg, PA 17579, United States
ROOM: Summer Art Club with Miss Angie (June)
DESCRIPTION:Summer Art Club  Grades 1-5 Pasta Dinosaur Fossils: Pretend
  to be a paleontologist who just got back from a dig—except instead of f
 ossilized bones, you have pasta! Which bones go where? Assemble the “bon
 es” you discovered into a dinosaur skeleton of your choice!Miss Angie wi
 ll share the Book: When Sue Found Sue- The story of Sue Hendrix and her d
 iscovery of a T. Rex by Toni Buzzeo and Diana Sudyka
URL:https://calendar.lancasterlibraries.org/event/art-club-miss-angie-june
 -172695
END:VEVENT
END:VCALENDAR
