BEGIN:VCALENDAR
VERSION:2.0
PRODID:-//Library Market//iCal Export//EN
BEGIN:VEVENT
SUMMARY:NO STORYTIME TODAY
UID:172699
DTSTAMP:20260421T231300Z
DTSTART:20260729T040000Z
DTEND:20260729T040000Z
LOCATION:143 Precision Avenue, Strasburg, PA 17579, United States
ROOM: NO STORYTIME TODAY
DESCRIPTION:
URL:https://calendar.lancasterlibraries.org/event/no-storytime-today-17269
 9
END:VEVENT
END:VCALENDAR
