BEGIN:VCALENDAR
VERSION:2.0
PRODID:-//Library Market//iCal Export//EN
BEGIN:VEVENT
SUMMARY:NO REGULAR STORYTIME TODAY
UID:172700
DTSTAMP:20260422T041200Z
DTSTART:20260617T040000Z
DTEND:20260617T040000Z
LOCATION:143 Precision Avenue, Strasburg, PA 17579, United States
ROOM: NO REGULAR STORYTIME TODAY
DESCRIPTION:We will not have Storytime today with Miss Wendy. We have a sp
 ecial event scheduled.
URL:https://calendar.lancasterlibraries.org/event/no-regular-storytime-tod
 ay-172700
END:VEVENT
END:VCALENDAR
