BEGIN:VCALENDAR
VERSION:2.0
PRODID:-//Library Market//iCal Export//EN
BEGIN:VEVENT
SUMMARY:Decorate A Summer Reading Bag!
UID:172806
DTSTAMP:20260420T055000Z
DTSTART:20260619T140000Z
DTEND:20260619T160000Z
LOCATION:547 N Penryn Rd, Manheim, PA 17545, United States
ROOM: MAN Meeting Room
DESCRIPTION:Decorate a Summer Reading tote and make your next checkout her
 e more stylish!Please come wearing older clothing so you don&#039;t get yo
 ur outfit ruined. Paint will find a place where it shouldn&#039;t be! Can
 &#039;t wait to see your finished art! 
URL:https://calendar.lancasterlibraries.org/event/copy-june-12-19th-decora
 te-summer-reading-bag-172806
END:VEVENT
END:VCALENDAR
