BEGIN:VCALENDAR
VERSION:2.0
PRODID:-//Library Market//iCal Export//EN
BEGIN:VEVENT
SUMMARY:Decorate A Summer Reading Bag!
UID:172816
DTSTAMP:20260421T030500Z
DTSTART:20260814T140000Z
DTEND:20260814T160000Z
LOCATION:547 N Penryn Rd, Manheim, PA 17545, United States
ROOM: MAN Meeting Room
DESCRIPTION:Decorate a Summer Reading tote and make your next checkout her
 e more stylish!Please come wearing older clothing so you don&#039;t get yo
 ur outfit ruined. Paint will find a place where it shouldn&#039;t be! Can
 &#039;t wait to see your finished art! 
URL:https://calendar.lancasterlibraries.org/event/copy-aug-14-decorate-sum
 mer-reading-bag-172816
END:VEVENT
END:VCALENDAR
