BEGIN:VCALENDAR
VERSION:2.0
PRODID:-//Library Market//iCal Export//EN
BEGIN:VEVENT
SUMMARY:Chess Club
UID:172819
DTSTAMP:20260420T034900Z
DTSTART:20260801T150000Z
DTEND:20260801T180000Z
LOCATION:357 Buck Road, Quarryville , PA 17566, United States
ROOM: QVL Pennington Family Conference Room
DESCRIPTION:Come join our Chess Club for adults and older teens (16+).  A
 ll levels welcome, we have a coach available to help you learn.
URL:https://calendar.lancasterlibraries.org/event/chess-club-172819
END:VEVENT
END:VCALENDAR
