BEGIN:VCALENDAR
VERSION:2.0
PRODID:-//Library Market//iCal Export//EN
BEGIN:VEVENT
SUMMARY:Friends Community Plant Exchange &amp; Bake Sale
UID:172835
DTSTAMP:20260419T215400Z
DTSTART:20260516T130000Z
DTEND:20260516T160000Z
LOCATION:1184 Anderson Ferry Road, Mount Joy, PA 17552, United States
ROOM: MJY Outdoors
DESCRIPTION: 
URL:https://calendar.lancasterlibraries.org/event/friends-community-plant-
 exchange-bake-sale-172835
END:VEVENT
END:VCALENDAR
