BEGIN:VCALENDAR
VERSION:2.0
PRODID:-//Library Market//iCal Export//EN
BEGIN:VEVENT
SUMMARY:LEGO Program
UID:173071
DTSTAMP:20260422T054400Z
DTSTART:20260718T140000Z
DTEND:20260718T150000Z
LOCATION:651 Kissel Hill Road, Lititz, PA 17543, United States
ROOM: LTZ Storytime Room
DESCRIPTION:The LEGO monthly program will tackle a variety of themes. Capp
 ing off each lesson will be a healthy amount of free-build time. The progr
 am would be open to 12 children each month between the ages of 6-10 years 
 old. Third Saturday of each month from 10am-11 am. 
URL:https://calendar.lancasterlibraries.org/event/lego-program-173071
END:VEVENT
END:VCALENDAR
