BEGIN:VCALENDAR
VERSION:2.0
PRODID:-//Library Market//iCal Export//EN
BEGIN:VEVENT
SUMMARY:Earth Day Storytime
UID:173086
DTSTAMP:20260419T233000Z
DTSTART:20260418T163000Z
DTEND:20260418T173000Z
LOCATION:151 North Queen Street, Lancaster, PA 17603, United States
ROOM: LPL Community Room
DESCRIPTION:Spring into storytime with Miss Rachel during our annual celeb
 ration of Earth Day!All ages · Walk-ins welcome
URL:https://calendar.lancasterlibraries.org/event/earth-day-storytime-1730
 86
END:VEVENT
END:VCALENDAR
