BEGIN:VCALENDAR
VERSION:2.0
PRODID:-//Library Market//iCal Export//EN
BEGIN:VEVENT
SUMMARY:Beginner Introduction to Dungeons and Dragons
UID:173105
DTSTAMP:20260421T231300Z
DTSTART:20260623T200000Z
DTEND:20260623T223000Z
LOCATION:651 Kissel Hill Road, Lititz, PA 17543, United States
ROOM: LTZ Storytime Room
DESCRIPTION:Intro to Dungeons and Dragons and other tabletop role-playing 
 games. Join dungeon master Ethan as you discover the world of D&amp;D! For
  teens. Space is limited. Beginner and experienced players welcome.
URL:https://calendar.lancasterlibraries.org/event/beginner-introduction-du
 ngeons-and-dragons-173105
END:VEVENT
END:VCALENDAR
