BEGIN:VCALENDAR
VERSION:2.0
PRODID:-//Library Market//iCal Export//EN
BEGIN:VEVENT
SUMMARY:Let&#039;s Get Down to Business: Finance Basics
UID:173134
DTSTAMP:20260420T053600Z
DTSTART:20260511T213000Z
DTEND:20260511T223000Z
LOCATION:151 North Queen Street, Lancaster, PA 17603, United States
ROOM: LPL Board Room
DESCRIPTION:Truist Bank will help you take care of business!Learn key elem
 ents of business finance basics to manage your cash flow, explore ways to 
 expand your business, hire employees, and understand insurance for your bu
 siness. We’ll also provide valuable take-away resources to help you and 
 your business.Walk-ins welcome · Ages 18+
URL:https://calendar.lancasterlibraries.org/event/lets-get-down-business-f
 inance-basics-173134
END:VEVENT
END:VCALENDAR
