BEGIN:VCALENDAR
VERSION:2.0
PRODID:-//Library Market//iCal Export//EN
BEGIN:VEVENT
SUMMARY:After the Startup: Borrowing for Small Business
UID:173135
DTSTAMP:20260420T053600Z
DTSTART:20260518T213000Z
DTEND:20260518T223000Z
LOCATION:151 North Queen Street, Lancaster, PA 17603, United States
ROOM: LPL Board Room
DESCRIPTION:Truist Bank will help you take care of business!Learn why busi
 nesses borrow, where to turn for funding, and how the lending process work
 s to get you to a smoother, smarter, and often more successful outcome. We
 ’ll also provide valuable take-away resources to help you and your busin
 ess.Walk-ins welcome · Ages 18+
URL:https://calendar.lancasterlibraries.org/event/after-startup-borrowing-
 small-business-173135
END:VEVENT
END:VCALENDAR
