BEGIN:VCALENDAR
VERSION:2.0
PRODID:-//Library Market//iCal Export//EN
BEGIN:VEVENT
SUMMARY:A &quot;Little&quot; Time for Crafts!
UID:173383
DTSTAMP:20260420T042900Z
DTSTART:20260501T143000Z
DTEND:20260501T153000Z
LOCATION:357 Buck Road, Quarryville , PA 17566, United States
ROOM: QVL Story Corner/Early Literacy Lab
DESCRIPTION:Come visit Ms. Lauren for a special Mothers&#039; Day craft pr
 oject and visit our Friends&#039; sale while you&#039;re here! Registratio
 n is requested, drop ins are welcome as space permits. Please wear &#039;c
 raft-safe&#039; clothing!Does your child love doing crafts? Are you stoppi
 ng by the library to check out books or other items? Stop by the children&
 #039;s area to see what kids craft we have today! Crafts will be easy to c
 reate or assemble.Recommended for children ages 2-6.
URL:https://calendar.lancasterlibraries.org/event/crafts-library-173383
END:VEVENT
END:VCALENDAR
