BEGIN:VCALENDAR
VERSION:2.0
PRODID:-//Library Market//iCal Export//EN
BEGIN:VEVENT
SUMMARY:Bibliomaniacs Book Club
UID:173387
DTSTAMP:20260422T041200Z
DTSTART:20260526T200000Z
DTEND:20260526T211500Z
LOCATION:24 South 6th Street, Columbia, PA 17512, United States
ROOM: COL Meeting Room
DESCRIPTION:They will meet to discuss Bel Canto by Ann Patchett.All are we
 lcome to attend. 
URL:https://calendar.lancasterlibraries.org/event/bibliomaniacs-book-club-
 173387
END:VEVENT
END:VCALENDAR
