BEGIN:VCALENDAR
VERSION:2.0
PRODID:-//Library Market//iCal Export//EN
BEGIN:VEVENT
SUMMARY:BookTok Buzz Book Club
UID:173388
DTSTAMP:20260422T041200Z
DTSTART:20260526T223000Z
DTEND:20260526T233000Z
LOCATION:24 South 6th Street, Columbia, PA 17512, United States
ROOM: COL Community Room
DESCRIPTION:They will meet to discuss Wait for Me by Amy Jo Burns and Stor
 y of My Life by Lucy Score.All are welcome to attend. 
URL:https://calendar.lancasterlibraries.org/event/booktok-buzz-book-club-1
 73388
END:VEVENT
END:VCALENDAR
