BEGIN:VCALENDAR
VERSION:2.0
PRODID:-//Library Market//iCal Export//EN
BEGIN:VEVENT
SUMMARY:Family Scavenger Hunt
UID:173390
DTSTAMP:20260421T004700Z
DTSTART:20260530T140000Z
DTEND:20260530T160000Z
LOCATION:United States
ROOM: LPL Offsite Location
DESCRIPTION:Get ready for an exciting adventure at our Family Scavenger Hu
 nt!Head to Ewell Plaza (outside the Lancaster City Branch) to purchase you
 r map (all proceeds support LPL!) and embark on a family-friendly journey 
 to discover four &quot;hidden&quot; locations around Lancaster City (withi
 n easy walking distance of the library). Along the way, collect a sticker
  for each location you find. Once you’ve completed your map, return to E
 well Plaza to claim your prize*Good to know info:This event is perfect for
  families with children of all ages, but we think kiddos ages 4-12 will en
 joy it the most!Strollers are welcome.Maps will be available from 10 to 11
 :30AM.No need to register in advance—just walk up, pay $5 per child (cas
 h or card accepted), and enjoy a fun, relaxed time exploring together.Priz
 es must be collected by 12PM.In the event of rain, we will postpone until 
 Saturday, June 13th 🚫🌧*Prizes available while supplies last.
URL:https://calendar.lancasterlibraries.org/event/family-scavenger-hunt-17
 3390
END:VEVENT
END:VCALENDAR
