BEGIN:VCALENDAR
VERSION:2.0
PRODID:-//Library Market//iCal Export//EN
BEGIN:VEVENT
SUMMARY:Tiny Tales Story Time
UID:173437
DTSTAMP:20260421T061400Z
DTSTART:20260504T143000Z
DTEND:20260504T150000Z
LOCATION:24 South 6th Street, Columbia, PA 17512, United States
ROOM: COL Community Room
DESCRIPTION:Stories, bubbles, songs, and play time for our youngest librar
 y friends ages birth to 11 months with their caregiver.Limit 10 infants. R
 egistration required. We respect our patron&#039;s privacy, please let us
  know when you arrive if you do not wish to have your child photographed. 
 Thank you!
URL:https://calendar.lancasterlibraries.org/event/tiny-tales-story-time-17
 3437
END:VEVENT
END:VCALENDAR
