BEGIN:VCALENDAR
VERSION:2.0
PRODID:-//Library Market//iCal Export//EN
BEGIN:VEVENT
SUMMARY:Tiny Tots Story Time
UID:173439
DTSTAMP:20260421T074500Z
DTSTART:20260511T140000Z
DTEND:20260511T144500Z
LOCATION:24 South 6th Street, Columbia, PA 17512, United States
ROOM: COL Community Room
DESCRIPTION:Stories, bubbles, music, and play time for our library friends
  ages 12-24 months with their caregiver. Limit 12 toddlers. Registration 
 required.We respect our patron&#039;s privacy. If you prefer not to have y
 our child photographed, please let us know upon arrival. Thank you!
URL:https://calendar.lancasterlibraries.org/event/tiny-tots-story-time-173
 439
END:VEVENT
END:VCALENDAR
