BEGIN:VCALENDAR
VERSION:2.0
PRODID:-//Library Market//iCal Export//EN
BEGIN:VEVENT
SUMMARY:Preschool Pals Story Time
UID:173452
DTSTAMP:20260422T021000Z
DTSTART:20260514T143000Z
DTEND:20260514T151500Z
LOCATION:24 South 6th Street, Columbia, PA 17512, United States
ROOM: COL Community Room
DESCRIPTION:Join us as read The Great Cookie Kerfuffle by Jessica Shaw, co
 mplete a craft, and enjoy play time together.Doors open at 10:30am for pla
 y time with our story beginning at 10:45am.Â Ages 2-4. Limit 10 children.Â
  Please email info@columbiapubliclibrary.org to register for this class.Â 
 Registration required.Â 
URL:https://calendar.lancasterlibraries.org/event/preschool-pals-story-tim
 e-173452
END:VEVENT
END:VCALENDAR
