BEGIN:VCALENDAR
VERSION:2.0
PRODID:-//Library Market//iCal Export//EN
BEGIN:VEVENT
SUMMARY:Mid Day Matinee
UID:173468
DTSTAMP:20260420T042900Z
DTSTART:20260807T170000Z
DTEND:20260807T193000Z
LOCATION:357 Buck Road, Quarryville , PA 17566, United States
ROOM: QVL C.X. Carlson Cultural Room
DESCRIPTION:Join us for this month’s film. We’ll offer new-to-video re
 leases as well as classic titles. Light snack is provided.Call for this mo
 nth&#039;s title. Hint: Catch up with the Crawley family and their staff i
 n this 2025 finale!Movies may be rated PG-13. 
URL:https://calendar.lancasterlibraries.org/event/mid-day-matinee-173468
END:VEVENT
END:VCALENDAR
