BEGIN:VCALENDAR
VERSION:2.0
PRODID:-//Library Market//iCal Export//EN
BEGIN:VEVENT
SUMMARY:Dinosaur Playtime
UID:173582
DTSTAMP:20260422T041200Z
DTSTART:20260618T153000Z
DTEND:20260618T160000Z
LOCATION:651 Kissel Hill Road, Lititz, PA 17543, United States
ROOM: LTZ Community Room
DESCRIPTION:Explore dinosaurs through interactive play, songs and books wi
 th Amy Moyer. A storytime for children ages 1-2 with a caregiver.
URL:https://calendar.lancasterlibraries.org/event/dinosaur-playtime-173582
END:VEVENT
END:VCALENDAR
