BEGIN:VCALENDAR
VERSION:2.0
PRODID:-//Library Market//iCal Export//EN
BEGIN:VEVENT
SUMMARY:Heirloom &amp; Harvest: The Art of the Pennsylvania Dutch Working 
 Garden
UID:173620
DTSTAMP:20260422T092600Z
DTSTART:20260520T220000Z
DTEND:20260521T000000Z
LOCATION:595 Granite Run Drive, Lancaster, PA 17601, United States
ROOM: MTP Morgan Center B
DESCRIPTION:Step back into the 19th-century landscape of Pennsylvania Dutc
 h Country, where the soil was a source of survival and the garden was a ma
 sterpiece of efficiency. This program explores the striking divide between
  the ornamental excess of the High Victorian Era and the rugged, purposefu
 l &quot;Working Gardens&quot; of the Pennsylvania Germans. Through this de
 ep dive, the Pennsylvania Master Gardeners uncover the sustainable secrets
  of the past and translate them into practical strategies for the modern b
 ack-to-the-land movement.
URL:https://calendar.lancasterlibraries.org/event/reserved-program-173620
END:VEVENT
END:VCALENDAR
