BEGIN:VCALENDAR
VERSION:2.0
PRODID:-//Library Market//iCal Export//EN
BEGIN:VEVENT
SUMMARY:Country Club Apartments - 323 Aaron Ln, Lancaster, PA 17601
UID:173632
DTSTAMP:20260421T004700Z
DTSTART:20260615T200000Z
DTEND:20260615T213000Z
LOCATION:United States
ROOM: Country Club Apartments - 323 Aaron Ln, Lancaster, PA 17601
DESCRIPTION:This stop is open to the public, located within Country Club A
 partments near the community mailboxes. At this stop, patrons can registe
 r for a library card, check out or return materials, and request holds for
  future stops.The materials at this stop are checked out for a full month 
 (until the next BKM visit) and can be returned at any library within the s
 ystem of Lancaster County.
URL:https://calendar.lancasterlibraries.org/event/country-club-apartments-
 323-aaron-ln-lancaster-pa-17601-173632
END:VEVENT
END:VCALENDAR
