BEGIN:VCALENDAR
VERSION:2.0
PRODID:-//Library Market//iCal Export//EN
BEGIN:VEVENT
SUMMARY:Teen Vision Board Studio
UID:173727
DTSTAMP:20260422T041200Z
DTSTART:20260530T160000Z
DTEND:20260530T190000Z
LOCATION:595 Granite Run Drive, Lancaster, PA 17601, United States
ROOM: MTP Morgan Center A
DESCRIPTION:Teens...got plans for your future or just vibing your way thro
 ugh summer? Either way, we have got you covered! Come tap into your creati
 ve side and make something awesome. Join the Teen Advisory Board for a cr
 eative hangout where you can design your own vision board- whether that me
 ans mapping out your college goals, building an ultimate summer bucket lis
 t, or just putting together a board that feels totally you.  We will have
  a ton of supplies, (magazines, markers, stickers, glue, washi tape and mo
 re) to help bring your ideas to life. Registration is required. This prog
 ram is for teens ages 13 - 19 years old.  Registration will open at 9:00A
 M on Wednesday, May 13th for Manheim Township and East Lampeter residents
  and on Friday, May 15th for residents of other municipalities.
URL:https://calendar.lancasterlibraries.org/event/teen-vision-board-studio
 -173727
END:VEVENT
END:VCALENDAR
