BEGIN:VCALENDAR
VERSION:2.0
PRODID:-//Library Market//iCal Export//EN
BEGIN:VEVENT
SUMMARY:MTPL Plant Swap!
UID:173770
DTSTAMP:20260422T092600Z
DTSTART:20260520T210000Z
DTEND:20260520T220000Z
LOCATION:595 Granite Run Drive, Lancaster, PA 17601, United States
ROOM: MTP Morgan Center C
DESCRIPTION:Whether you’re a seasoned plant parent or just looking to gr
 ow your collection, join us at the Manheim Township Public Library for our
  community plant swap! Bring a healthy plant or a rooted cutting to share 
 and take home a new green friend! 🌿🪴How it Works:Give One, Get One: 
 Bring a pest-free plant (potted or a cutting in a jar) to the swap table.S
 hare the Knowledge: Feel free to bring care instructions or ID tags for yo
 ur plants so the new owner knows what they’re getting!Branch Out: Meet f
 ellow local gardeners and swap tips along with your sprouts. 
URL:https://calendar.lancasterlibraries.org/event/mtpl-plant-swap-173770
END:VEVENT
END:VCALENDAR
