BEGIN:VCALENDAR
VERSION:2.0
PRODID:-//Library Market//iCal Export//EN
BEGIN:VEVENT
SUMMARY:Crochet with Kasey - Veterans Blanket
UID:173840
DTSTAMP:20260421T231300Z
DTSTART:20260512T223000Z
DTEND:20260513T000000Z
LOCATION:24 South 6th Street, Columbia, PA 17512, United States
ROOM: COL Meeting Room
DESCRIPTION:If you enjoy crafting and conversations, this class is for you
 ! Hospice is in dire need of veterans blankets, so the group will be conti
 nuing their annual tradition of making veterans blankets.May Project: Vete
 rans Blankets for HospiceMaterials Needed:- Can use any yarn, but acrylic 
 is recommended.- Any size hook- Red, White, and Blue colors.- Participants
  are welcome to make their own design or follow along as Kasey teaches a n
 ew stitch, moss ripple stitch&quot;      (Example of moss ripple sti
 tch pattern)
URL:https://calendar.lancasterlibraries.org/event/crochet-kasey-veterans-b
 lanket-173840
END:VEVENT
END:VCALENDAR
