BEGIN:VCALENDAR
VERSION:2.0
PRODID:-//Library Market//iCal Export//EN
BEGIN:VEVENT
SUMMARY:Crafty Cards - Thinking Of You Cards
UID:173843
DTSTAMP:20260421T213800Z
DTSTART:20260518T150000Z
DTEND:20260518T161500Z
LOCATION:24 South 6th Street, Columbia, PA 17512, United States
ROOM: COL Meeting Room
DESCRIPTION:If you enjoy crafting and conversations, this class is for you
 !May Theme: Thinking Of You CardsIn this class, participants will make thr
 ee thinking of you cards. There is a $6.00 charge to cover the cost of ma
 terials; includes a $1.00 donation to the library.Please Note: this class 
 is on an intermediate level. Registration required in order for Bert to p
 repare enough supplies. Please register each person in your party individu
 ally. Registration closes at 1:00pm on Friday, May 15. 
URL:https://calendar.lancasterlibraries.org/event/crafty-cards-thinking-yo
 u-cards-173843
END:VEVENT
END:VCALENDAR
