BEGIN:VCALENDAR
VERSION:2.0
PRODID:-//Library Market//iCal Export//EN
BEGIN:VEVENT
SUMMARY:Women Who Took a Stand
UID:173846
DTSTAMP:20260421T213800Z
DTSTART:20260521T223000Z
DTEND:20260521T233000Z
LOCATION:24 South 6th Street, Columbia, PA 17512, United States
ROOM: COL Meeting Room
DESCRIPTION:Whether it was spies, stay at home mothers, wives, activists, 
 nurses, soldiers, or working behind the scenes, women have always taken ac
 tion. This was the case during the Civil War. While many thought a women&#
 039;s place was at home raising children, instead, women of all ages and b
 ackgrounds took action.Join Civil War Historian Cindy Beaston as she discu
 sses some of the women who defied societal norms and fought for the very r
 ights we hold dear today.All are welcome to attend. 
URL:https://calendar.lancasterlibraries.org/event/women-who-took-stand-173
 846
END:VEVENT
END:VCALENDAR
