BEGIN:VCALENDAR
VERSION:2.0
PRODID:-//Library Market//iCal Export//EN
BEGIN:VEVENT
SUMMARY:Preschool Pals Story Time
UID:173847
DTSTAMP:20260422T041200Z
DTSTART:20260527T141500Z
DTEND:20260527T150000Z
LOCATION:24 South 6th Street, Columbia, PA 17512, United States
ROOM: COL Community Room
DESCRIPTION:Join us as we read a story with our teddy bears, complete a cr
 aft, and enjoy parachute time together.Children are welcome to bring their
  teddy bear or favorite stuffed animal friend for this story time.Doors op
 en at 10:15am with our story beginning at 10:30am.Ages 2-4. Limit 12 child
 ren.Registration required. Each child must be registered individually.
URL:https://calendar.lancasterlibraries.org/event/preschool-pals-story-tim
 e-173847
END:VEVENT
END:VCALENDAR
