BEGIN:VCALENDAR
VERSION:2.0
PRODID:-//Library Market//iCal Export//EN
BEGIN:VEVENT
SUMMARY:Preschool Pals Story Time
UID:173861
DTSTAMP:20260422T041200Z
DTSTART:20260528T143000Z
DTEND:20260528T151500Z
LOCATION:24 South 6th Street, Columbia, PA 17512, United States
ROOM: COL Community Room
DESCRIPTION:Join us as we read a story with our teddy bears, complete a cr
 aft, and enjoy parachute time together.Children are welcome to bring their
  teddy bear or favorite stuffed animal friend for this story time.Doors op
 en at 10:30am with our story beginning at 10:45am.Ages 2-4. Limit 10 child
 ren.Registration required. Each child must be registered individually.Plea
 se email info@columbiapubliclibrary.org to register for this event. 
URL:https://calendar.lancasterlibraries.org/event/preschool-pals-story-tim
 e-173861
END:VEVENT
END:VCALENDAR
